BEGIN:VCALENDAR
VERSION:2.0
PRODID:-//ExpressionEngine Easy iCalendar plugin//NONSGML v1.1.1//EN
BEGIN:VEVENT
UID:event
LOCATION:\, The Italian Academy
DTSTAMP:20210221T33000Z
DTSTART;TZID=America/New_York:20171206T173000
DTEND;TZID=America/New_York:20171207T150000
SUMMARY:Monteverdi at 450: Experiments in Sound\, Image and Movement
DESCRIPTION:With a concert\, two discussions\, and an exhibition of ma
 terials related to Luciano Berio’s “revisitation” of 
 Monteverdi’s L’incoronazione di Poppea\, a collection 
 now held at the Paul Sacher Foundation (Basel)\, these two 
 days of events explore Monteverdi's impact on the music and 
 ideas of the 20th and 21st centuries\, and how his work s
 timulated artists in a range of media — particularly Luc
 iano Berio (1925-2003).
END:VEVENT
END:VCALENDAR