BEGIN:VCALENDAR
VERSION:2.0
PRODID:-//ExpressionEngine Easy iCalendar plugin//NONSGML v1.1.1//EN
BEGIN:VEVENT
UID:event
LOCATION:\, Faculty House // Deutsches Haus // Room 511\, Dodge Hall
DTSTAMP:20210221T32700Z
DTSTART;TZID=America/New_York:20171130T213000
DTEND;TZID=America/New_York:20171202T000000
SUMMARY:The Tableau Vivant - Across Media\, History\, and Culture
DESCRIPTION:The phenomenon of the tableau vivant is anchored in Ancient 
 Greek mythology and mime traditions and came into being as a
  liturgical and ceremonial event in the eleventh and twelfth
  centuries\, first flourishing in the late medieval and early
  Renaissance period before seeing a resurgence in nineteenth
 -century performance culture after Emma\, Lady Hamiltonâ€™s f
 amous parlor attitudes inspired a notable passage in Goetheâ
 €™s 1808 Wahlverwandtschaften [Elective Affinities]. Tableau
 x vivants were synonymous with living paintings\, statues viv
 ants\, living pictures\, living statues\, Grecian statues\, pose
 s plastiques\, attitudes\, and lebende bilder\, to name but a f
 ew.Â 
END:VEVENT
END:VCALENDAR