BEGIN:VCALENDAR
VERSION:2.0
PRODID:-//ExpressionEngine Easy iCalendar plugin//NONSGML v1.1.1//EN
BEGIN:VEVENT
UID:event
LOCATION:The Heyman Center
DTSTAMP:20210221T33700Z
DTSTART;TZID=America/New_York:20180129T180000
DTEND;TZID=America/New_York:
SUMMARY:“Swim Team”: A Medical Humanities Film Series
DESCRIPTION:The Heyman Center is hosting a film screening of Swim Team\,
  an award winning feature documentary about a New Jersey Y
 MCA based\, community swim team made up of kids on the autism
  spectrum. The film follows three of team’s star athletes\,
  boys on the cusp of adulthood\, when government services bec
 ome scarce. A roundtable discussion will follow.
END:VEVENT
END:VCALENDAR