BEGIN:VCALENDAR
VERSION:2.0
PRODID:-//ExpressionEngine Easy iCalendar plugin//NONSGML v1.1.1//EN
BEGIN:VEVENT
UID:event
LOCATION:The Heyman Center\, Second Floor Common Room
DTSTAMP:20210221T33600Z
DTSTART;TZID=America/New_York:20180327T181500
DTEND;TZID=America/New_York:
SUMMARY:Protestants Abroad: How Missionaries Tried to Change the Wor
 ld but Changed America
DESCRIPTION:Author David Hollinger discusses his new book Protestants A
 broad.
END:VEVENT
END:VCALENDAR