BEGIN:VCALENDAR
VERSION:2.0
PRODID:-//ExpressionEngine Easy iCalendar plugin//NONSGML v1.1.1//EN
BEGIN:VEVENT
UID:event
LOCATION:The Heyman Center\, Second Floor Common Room
DTSTAMP:20210221T33600Z
DTSTART;TZID=America/New_York:20120217T100000
DTEND;TZID=America/New_York:
SUMMARY:Development and Its Evangelists in the Cold War
DESCRIPTION:This event will explore international development during the
  Cold War Era. 
END:VEVENT
END:VCALENDAR