BEGIN:VCALENDAR
VERSION:2.0
PRODID:-//ExpressionEngine Easy iCalendar plugin//NONSGML v1.1.1//EN
BEGIN:VEVENT
UID:event
LOCATION:Butler Library\, Room 523
DTSTAMP:20210221T33900Z
DTSTART;TZID=America/New_York:20180404T161500
DTEND;TZID=America/New_York:
SUMMARY:Democracy and the Welfare State: The Two Wests in the Age of
  Austerity
DESCRIPTION:Panel to celebrate the publication of Democracy and the Wel
 fare State\, edited by Alice Kessler-Harris and Maurizio Vaud
 agna. The research of CSSD working group Social Justice Afte
 r the Welfare State inspired the creation of this book.
END:VEVENT
END:VCALENDAR