BEGIN:VCALENDAR
VERSION:2.0
PRODID:-//ExpressionEngine Easy iCalendar plugin//NONSGML v1.1.1//EN
BEGIN:VEVENT
UID:event
LOCATION:The Heyman Center\, Second Floor Common Room
DTSTAMP:20210221T33000Z
DTSTART;TZID=America/New_York:20180419T181500
DTEND;TZID=America/New_York:
SUMMARY:Tough Enough: Arbus\, Arendt\, Didion\, McCarthy\, Sontag\, Weil
DESCRIPTION:This book focuses on six brilliant women who are often seen 
 as particularly tough-minded: Simone Weil\, Hannah Arendt\, M
 ary McCarthy\, Susan Sontag\, Diane Arbus\, and Joan Didion. 
 Aligned with no single tradition\, they escape straightforwar
 d categories. Yet their work evinces an affinity of style an
 d philosophical viewpoint that derives from a shared attitud
 e toward suffering. What Mary McCarthy called a “cold eye
  was not merely a personal aversion to displays of emotion
 : it was an unsentimental mode of attention that dictated bo
 th ethical positions and aesthetic approaches.
END:VEVENT
END:VCALENDAR