BEGIN:VCALENDAR
VERSION:2.0
PRODID:-//ExpressionEngine Easy iCalendar plugin//NONSGML v1.1.1//EN
BEGIN:VEVENT
UID:event
LOCATION:The Heyman Center\, Second Floor Common Room
DTSTAMP:20210221T33100Z
DTSTART;TZID=America/New_York:20120209T173000
DTEND;TZID=America/New_York:
SUMMARY:The Blinken European Institute Presents: The Ethical-Politic
 al Economy of Nuclear Waste
DESCRIPTION:Professor Galison's talk on the Ethical-Political Economy of
  Nuclear Waste is part of the ongoing series "Bringing Back 
 Political Economy: Europe\, Ground Zero" co-sponsored by the 
 Blinken European Institute and the Heyman Center for the Hum
 anities.
END:VEVENT
END:VCALENDAR