BEGIN:VCALENDAR
VERSION:2.0
PRODID:-//ExpressionEngine Easy iCalendar plugin//NONSGML v1.1.1//EN
BEGIN:VEVENT
UID:event
LOCATION:\, Maison Francaise East Gallery\, Buell Hall
DTSTAMP:20210221T32700Z
DTSTART;TZID=America/New_York:20180117T180000
DTEND;TZID=America/New_York:
SUMMARY:Celebrating Recent Work by Thomas Dodman
DESCRIPTION:From the late 17th through the late 19th century\, nostalgia
  denoted a form of homesickness so extreme that it could som
 etimes be deadly. What Nostalgia Was unearths that history
 . Thomas Dodman traces the invention of nostalgia as a medic
 al diagnosis in Basel\, Switzerland\, its spread through the E
 uropean republic of letters and into Napoleon's armies\, its 
 subsequent transformation from a medical term to a more expa
 nsive cultural concept\, and its shift in meaning in the colo
 nies\, where Frenchmen worried about racial and cultural mixi
 ng came to view moderate homesickness as salutary. 
END:VEVENT
END:VCALENDAR