BEGIN:VCALENDAR
VERSION:2.0
PRODID:-//ExpressionEngine Easy iCalendar plugin//NONSGML v1.1.1//EN
BEGIN:VEVENT
UID:event
LOCATION:Maison Francaise East Gallery\, Buell Hall
DTSTAMP:20210221T33000Z
DTSTART;TZID=America/New_York:20180131T180000
DTEND;TZID=America/New_York:
SUMMARY:Celebrating Recent Work by Brent Edwards
DESCRIPTION:Composed of Michel Leiris's daily travel journal detailing t
 he first French state-sponsored anthropological expedition i
 n sub-Saharan Africa\, this first English translation (by Bre
 nt Edwards) of the French Surrealist writer's Phantom Afric
 a bears witness to the full range of social and political f
 orces shaping the African continent in the period between th
 e World Wars.
END:VEVENT
END:VCALENDAR