BEGIN:VCALENDAR
VERSION:2.0
PRODID:-//ExpressionEngine Easy iCalendar plugin//NONSGML v1.1.1//EN
BEGIN:VEVENT
UID:event
LOCATION:\, Maison Francaise East Gallery\, Buell Hall
DTSTAMP:20210221T32600Z
DTSTART;TZID=America/New_York:20180327T180000
DTEND;TZID=America/New_York:
SUMMARY:Celebrating Recent Work by Andreas Wimmer
DESCRIPTION:Traversing centuries and continents from early 19th-century 
 Europe and Asia to Africa from the turn of the 21st century 
 to today\, Andreas Wimmer delves into the forces that encoura
 ge political alliances to stretch across ethnic divides and 
 build national unity. Offering a long-term historical persp
 ective and global outlook\, Nation Building sheds important
  new light on the challenges of political integration in div
 erse countries. 
END:VEVENT
END:VCALENDAR