BEGIN:VCALENDAR
VERSION:2.0
PRODID:-//ExpressionEngine Easy iCalendar plugin//NONSGML v1.1.1//EN
BEGIN:VEVENT
UID:event
LOCATION:The Heyman Center\, Second Floor Common Room
DTSTAMP:20210221T33900Z
DTSTART;TZID=America/New_York:20180403T181500
DTEND;TZID=America/New_York:
SUMMARY:Celebrating Recent Work by David Russell and Emily Ogden
DESCRIPTION:New Books in the Society of Fellows: Celebrating Recent Work
  by David Russell and Emily Ogden
END:VEVENT
END:VCALENDAR