BEGIN:VCALENDAR
VERSION:2.0
PRODID:-//ExpressionEngine Easy iCalendar plugin//NONSGML v1.1.1//EN
BEGIN:VEVENT
UID:event
LOCATION:The Heyman Center\, Second Floor Common Room
DTSTAMP:20210221T33600Z
DTSTART;TZID=America/New_York:20180409T183000
DTEND;TZID=America/New_York:
SUMMARY:Celebrating Recent Work by Rebecca Woods\, Matthew Jones\, and
  William Deringer
DESCRIPTION:New Books in the Society of Fellows: Celebrating Recent Work
  by Rebecca Woods\, Matthew Jones\, and William Deringer
END:VEVENT
END:VCALENDAR