BEGIN:VCALENDAR
VERSION:2.0
PRODID:-//ExpressionEngine Easy iCalendar plugin//NONSGML v1.1.1//EN
BEGIN:VEVENT
UID:event
LOCATION:The Heyman Center\, Second Floor Common Room
DTSTAMP:20210221T33900Z
DTSTART;TZID=America/New_York:20180228T181500
DTEND;TZID=America/New_York:
SUMMARY:The Caine Prize Lecture: Bushra al-Fadil
DESCRIPTION:The Caine Prize for African Writing is a literature prize aw
 arded to an African writer of a short story published in Eng
 lish. The prize was launched in 2000 to encourage and highli
 ght the richness and diversity of African writing by bringin
 g it to a wider audience internationally. The focus on the s
 hort story reflects the contemporary development of the Afri
 can story-telling tradition.
END:VEVENT
END:VCALENDAR