BEGIN:VCALENDAR
VERSION:2.0
PRODID:-//ExpressionEngine Easy iCalendar plugin//NONSGML v1.1.1//EN
BEGIN:VEVENT
UID:event
LOCATION:Jerome Greene Hall (Law School)\, Case Lounge
DTSTAMP:20210221T33100Z
DTSTART;TZID=America/New_York:20180220T161500
DTEND;TZID=America/New_York:
SUMMARY:Transnational Feminist Futures
DESCRIPTION:Transnational Feminist Futures is an event meant to offer a 
 unique opportunity for scholars and practitioners from diffe
 rent disciplines to interrogate and hone our understanding o
 f where the field of transnational feminisms is and where it
  is going. This event is devoted to cultivating a robust and
  dynamic dialogue around the ‘transnational’ as an analy
 tic\, a critique\, and a process.
END:VEVENT
END:VCALENDAR