BEGIN:VCALENDAR
VERSION:2.0
PRODID:-//ExpressionEngine Easy iCalendar plugin//NONSGML v1.1.1//EN
BEGIN:VEVENT
UID:event
LOCATION:\, Maison Française (Buell Hall)
DTSTAMP:20210221T33800Z
DTSTART;TZID=America/New_York:20180323T90000
DTEND;TZID=America/New_York:
SUMMARY:Music Theory and Music Cognition: A conference in honor of F
 red Lerdahl
DESCRIPTION:Fred Lerdahl's thought has exercised a widespread influenc
 e on music theory and music cognition as well as informing t
 he analysis of music in the tonal repertoire and beyond. Thi
 s conference\, organized in his honor by the Department of Mu
 sic at Columbia University\, will present recent work based o
 n and related to the theoretical work of Fred Lerdahl as w
 ell as its applicability to various areas of research and mu
 sical practice.
END:VEVENT
END:VCALENDAR