BEGIN:VCALENDAR
VERSION:2.0
PRODID:-//ExpressionEngine Easy iCalendar plugin//NONSGML v1.1.1//EN
BEGIN:VEVENT
UID:event
LOCATION:\, Theresa Lang Student and Community Center\, 55 West 13th St
 reet
DTSTAMP:20210221T33700Z
DTSTART;TZID=America/New_York:20180423T130000
DTEND;TZID=America/New_York:20180424T000000
SUMMARY:Cons and Scams: Their Place in American Culture
DESCRIPTION:Cons and con men have long been present in American culture 
 and are often represented as romantic figures. This symposiu
 m will explore cons and scams in their many guises and what 
 makes us vulnerable to them\, with particular attention to th
 e current political scene in the US.
END:VEVENT
END:VCALENDAR