BEGIN:VCALENDAR
VERSION:2.0
PRODID:-//ExpressionEngine Easy iCalendar plugin//NONSGML v1.1.1//EN
BEGIN:VEVENT
UID:event
LOCATION:Schermerhorn Hall\, 754 Schermerhorn Ext.
DTSTAMP:20210221T33400Z
DTSTART;TZID=America/New_York:20180412T153000
DTEND;TZID=America/New_York:
SUMMARY:Kamila Shamsie and Colm Toibin program on Home Fire
END:VEVENT
END:VCALENDAR