BEGIN:VCALENDAR
VERSION:2.0
PRODID:-//ExpressionEngine Easy iCalendar plugin//NONSGML v1.1.1//EN
BEGIN:VEVENT
UID:event
LOCATION:The Katharina Otto-Bernstein Screening Room\, Lenfest Center 
 for the Arts
DTSTAMP:20210221T33600Z
DTSTART;TZID=America/New_York:20180403T190000
DTEND;TZID=America/New_York:
SUMMARY:The Global Poets Series
DESCRIPTION:the poets:\n\nTracy K. Smith\, U.S. Poet Laureate and winner of
  the Pulitzer Prize for Poetry\n\nand\n\nM. NourbeSe Philip\, r
 enowned Canadian poet of Tobagoan heritage\n\nThe Global Poe
 ts Series is a celebration through poetry of our diverse gl
 obal community at Columbia
END:VEVENT
END:VCALENDAR