BEGIN:VCALENDAR
VERSION:2.0
PRODID:-//ExpressionEngine Easy iCalendar plugin//NONSGML v1.1.1//EN
BEGIN:VEVENT
UID:event
LOCATION:The Heyman Center\, Second Floor Common Room
DTSTAMP:20210221T33200Z
DTSTART;TZID=America/New_York:20180223T121500
DTEND;TZID=America/New_York:
SUMMARY:Minstrel Military: How America Weaponized Blackface to Fight
  Nazis
DESCRIPTION:"Minstrel Military: How America Weaponized Blackface to Figh
 t Nazis" will examine the role amateur blackface minstrel sh
 ows played in the United States during the Great Depression 
 and World War II. In the century spanning the end of the Civ
 il War to the birth of the Civil Rights Movement (an era cal
 led "Jim Crow\," after the first blackface character)\, the Am
 erican government refocused domestic and foreign policy to f
 ederalize\, finance\, distribute\, codify\, and produce racist a
 mateur blackface music and plays in public schools\, the mili
 tary\, and everyday American life as an expression of patriot
 ic duty and citizenship.
END:VEVENT
END:VCALENDAR