BEGIN:VCALENDAR
VERSION:2.0
PRODID:-//ExpressionEngine Easy iCalendar plugin//NONSGML v1.1.1//EN
BEGIN:VEVENT
UID:event
LOCATION:The Heyman Center\, Second Floor Common Room
DTSTAMP:20210221T33500Z
DTSTART;TZID=America/New_York:20180219T160000
DTEND;TZID=America/New_York:
SUMMARY:Hysteria from the Archives
DESCRIPTION:This Poetry Coffee Hour is to feature Leticia Fernández-Fon
 techa and her new book\, Hysteria from the Archives.
END:VEVENT
END:VCALENDAR