BEGIN:VCALENDAR
VERSION:2.0
PRODID:-//ExpressionEngine Easy iCalendar plugin//NONSGML v1.1.1//EN
BEGIN:VEVENT
UID:event
LOCATION:The Heyman Center\, Second Floor Common Room
DTSTAMP:20210221T33500Z
DTSTART;TZID=America/New_York:20180323T153000
DTEND;TZID=America/New_York:
SUMMARY:Second Wave Feminism as History: Britain and Beyond
DESCRIPTION:"Second Wave Feminism as History:  Britain and Beyond" 
END:VEVENT
END:VCALENDAR