BEGIN:VCALENDAR
VERSION:2.0
PRODID:-//ExpressionEngine Easy iCalendar plugin//NONSGML v1.1.1//EN
BEGIN:VEVENT
UID:event
LOCATION:Butler Library\, 522 & 523
DTSTAMP:20210221T33800Z
DTSTART;TZID=America/New_York:20180410T140000
DTEND;TZID=America/New_York:
SUMMARY:Public Humanities Symposium
DESCRIPTION:The Heyman Center Public Humanities Initiative envisions way
 s for scholars to interact with and facilitate access to hum
 anities scholarship for a larger public outside of academia.
  This year\, the pilot program supported three scholars' proj
 ects focusing on the impact of scholarship on civic life and
  society.   
END:VEVENT
END:VCALENDAR