BEGIN:VCALENDAR
VERSION:2.0
PRODID:-//ExpressionEngine Easy iCalendar plugin//NONSGML v1.1.1//EN
BEGIN:VEVENT
UID:event
LOCATION:The Heyman Center\, Second Floor Common Room
DTSTAMP:20210221T33200Z
DTSTART;TZID=America/New_York:20180430T100000
DTEND;TZID=America/New_York:
SUMMARY:The Rural-Urban Interface: Statistics and Stories
DESCRIPTION:On April 30th\, 2018\, the Center for the Study of Social Dif
 ference will sponsor a conference discussing a work in progr
 ess on “The Rural-Urban Interface: Gender and Poverty in G
 hana and Kenya\, Statistics and Stories.” 
END:VEVENT
END:VCALENDAR