BEGIN:VCALENDAR
VERSION:2.0
PRODID:-//ExpressionEngine Easy iCalendar plugin//NONSGML v1.1.1//EN
BEGIN:VEVENT
UID:event
LOCATION:\, Buell Hall\, Maison Francaise
DTSTAMP:20210221T33400Z
DTSTART;TZID=America/New_York:20180227T180000
DTEND;TZID=America/New_York:
SUMMARY:Celebrating Recent Work by Bernard Harcourt
DESCRIPTION:Militarized police officers with tanks and drones. Pervasive
  government surveillance and profiling. Social media that di
 stract and track us. All of these\, contends Bernard Harcourt
 \, are facets of a new and radical governing paradigm in the 
 United States–one rooted in the modes of warfare originall
 y developed to suppress anticolonial revolutions and\, more
  recently\, to prosecute the war on terror. The Counterrevol
 ution is a penetrating and disturbing account of the rise o
 f counterinsurgency\, first as a military strategy but increa
 singly as a way of ruling ordinary Americans. Harcourt shows
  how counterinsurgency’s principles–bulk intelligence co
 llection\, ruthless targeting of minorities\, pacifying propag
 anda–have taken hold domestically despite the absence of a
 ny radical uprising. This counterrevolution against phantom 
 enemies\, he argues\, is the tyranny of our age. Seeing it cle
 arly is the first step to resisting it effectively.
END:VEVENT
END:VCALENDAR