BEGIN:VCALENDAR
VERSION:2.0
PRODID:-//ExpressionEngine Easy iCalendar plugin//NONSGML v1.1.1//EN
BEGIN:VEVENT
UID:event
LOCATION:Jerome Greene Hall (Law School)\, Jerome Greene Annex
DTSTAMP:20210221T33400Z
DTSTART;TZID=America/New_York:20180202T121500
DTEND;TZID=America/New_York:
SUMMARY:Uprising 13/13 Extra Seminar: Fake News: The Louvre on Fire/
 History of a False Report
DESCRIPTION:The First Fake News? How the birth of modern mass tourism 
 and the invention of the transatlantic telegraph gave way to
  the first (but not last) case of "fake news" distributed b
 y mass media on a global scale. In the Jerome Greene Annex.
END:VEVENT
END:VCALENDAR