BEGIN:VCALENDAR
VERSION:2.0
PRODID:-//ExpressionEngine Easy iCalendar plugin//NONSGML v1.1.1//EN
BEGIN:VEVENT
UID:event
LOCATION:Maison Francaise
DTSTAMP:20210221T33600Z
DTSTART;TZID=America/New_York:20180305T160000
DTEND;TZID=America/New_York:
SUMMARY:Sexuality\, Disability\, and Aging: Queer Temporalities of the
  Phallus
DESCRIPTION:Lecture by Prof. Jane Gallop\, Distinguished Professor of Eng
 lish and Comparative Literature at the University of Wiscons
 in—Milwaukee.
END:VEVENT
END:VCALENDAR