BEGIN:VCALENDAR
VERSION:2.0
PRODID:-//ExpressionEngine Easy iCalendar plugin//NONSGML v1.1.1//EN
BEGIN:VEVENT
UID:event
LOCATION:Butler Library\, 523 Butler
DTSTAMP:20210221T33400Z
DTSTART;TZID=America/New_York:20180326T180000
DTEND;TZID=America/New_York:
SUMMARY:We Are All Fast Food Workers Now
DESCRIPTION:Just a day after the anniversary of the 1911 Triangle Shirtw
 aist Factory Fire\, a roundtable discussion on labor\, activis
 m\, and gender with Author Annelise Orleck\, Barnard Professo
 r of History Premilla Nadesen\, and other activists\, moderate
 d by Alice Kessler-Harris.
END:VEVENT
END:VCALENDAR