BEGIN:VCALENDAR
VERSION:2.0
PRODID:-//ExpressionEngine Easy iCalendar plugin//NONSGML v1.1.1//EN
BEGIN:VEVENT
UID:event
LOCATION:The Heyman Center\, Second Floor Common Room
DTSTAMP:20210221T33000Z
DTSTART;TZID=America/New_York:20180220T180000
DTEND;TZID=America/New_York:
SUMMARY:The Second Time: A Few Notes on Historicity in the Thought o
 f W. E. B. Du Bois
DESCRIPTION:To celebrate the sesquicentennial anniversary of the birth o
 f W.E.B. Du Bois (February 23\, 2018)\, IRAAS\, The Center for 
 Race\, Philosophy\, and Social Justice and the Heyman Center a
 re sponsoring a spring semester lecture series: Du Bois at 1
 50.  
END:VEVENT
END:VCALENDAR