BEGIN:VCALENDAR
VERSION:2.0
PRODID:-//ExpressionEngine Easy iCalendar plugin//NONSGML v1.1.1//EN
BEGIN:VEVENT
UID:event
LOCATION:Low Memorial Library\, Faculty Room
DTSTAMP:20210221T33500Z
DTSTART;TZID=America/New_York:20180307T120000
DTEND;TZID=America/New_York:
SUMMARY:In Conversation: Exploring Race and Whiteness in America Tod
 ay
DESCRIPTION:In Conversation: Exploring Race and Whiteness in America Tod
 ay\n\nPanelists: Whitney Dow and Claudia Rankine\n\nModerated by
  Joy Reid \n\n 
END:VEVENT
END:VCALENDAR