BEGIN:VCALENDAR
VERSION:2.0
PRODID:-//ExpressionEngine Easy iCalendar plugin//NONSGML v1.1.1//EN
BEGIN:VEVENT
UID:event
LOCATION:Pulitzer Hall (formerly Journalism Hall)\, Room 301
DTSTAMP:20210221T33300Z
DTSTART;TZID=America/New_York:20180422T183000
DTEND;TZID=America/New_York:
SUMMARY:Pale Sister (Staged Reading)
DESCRIPTION:Written by Colm Tóibín for the actress Lisa Dwan\, Pale
  Sister is a dramatisation of the voice of Ismene\, siste
 r of Antigone\, who recounts Antigone’s defiance of the Kin
 g as pressures mount on Ismene to act to vindicate her sis
 ter\, or even follow her example. It arises from “The Antig
 one Project\,” a course taught at Columbia University by Li
 sa Dwan and Colm Tóibín\, which explores the ways the i
 deas animating Antigone--conscience versus law\, defiance ver
 sus might\, protest versus order\, the individual versus autho
 rity\, and a woman's powerlessness emerging as power--have fo
 und expression at different times throughout history. There 
 were versions made in France during the Nazi Occupation\, in 
 Ireland during the Troubles\, in Germany after the war\, in So
 uth Africa during apartheid\, and among the Pakistani communi
 ty in contemporary London.
END:VEVENT
END:VCALENDAR