BEGIN:VCALENDAR
VERSION:2.0
PRODID:-//ExpressionEngine Easy iCalendar plugin//NONSGML v1.1.1//EN
BEGIN:VEVENT
UID:event
LOCATION:The Schapiro Center\, Davis Auditorium
DTSTAMP:20210221T33900Z
DTSTART;TZID=America/New_York:20180308T181500
DTEND;TZID=America/New_York:
SUMMARY:Into the Light: PBS NYC Film Premiere and Panel Conversation
DESCRIPTION:A film screening followed by a conversation with Dr. Barbar
 a Van Dahlen Founder and President of Give an Hour\, a nation
 al nonprofit which provides free therapy to veterans and the
 ir families and creator of The Campaign to Change Direction\;
  and Dr. Jeffrey Borenstein\, CEO and President of the Brain 
 and Behavior Research Foundation\, host of the PBS series Hea
 lthy Minds and an Associate Clinical Professor of Psychiatr
 y at Columbia University College of Physicians and Surgeons\,
  and Rishi Goyal\, Emergency Room Physician and Director of t
 he Medicine Literature and Society Major track at ICLS.
END:VEVENT
END:VCALENDAR