BEGIN:VCALENDAR
VERSION:2.0
PRODID:-//ExpressionEngine Easy iCalendar plugin//NONSGML v1.1.1//EN
BEGIN:VEVENT
UID:event
LOCATION:The Heyman Center\, Second Floor Common Room
DTSTAMP:20210221T33600Z
DTSTART;TZID=America/New_York:20180405T181500
DTEND;TZID=America/New_York:
SUMMARY:Celebrating Recent Work by Caitlin Gillespie
DESCRIPTION:New Books in the Arts & Sciences:: Celebrating Recent Work 
 by Caitlin Gillespie
END:VEVENT
END:VCALENDAR