BEGIN:VCALENDAR
VERSION:2.0
PRODID:-//ExpressionEngine Easy iCalendar plugin//NONSGML v1.1.1//EN
BEGIN:VEVENT
UID:event
LOCATION:\, Dodge Hall\, room 401
DTSTAMP:20210221T33000Z
DTSTART;TZID=America/New_York:20180330T170000
DTEND;TZID=America/New_York:
SUMMARY:Colin Barrett & Colm Tóibín in conversation
DESCRIPTION:Colin Barrett is the author of Young Skins\, a debut collect
 ion of stories\, which won the Guardian First Book Award\, the
  Rooney Prize for Irish Literature\, and the Frank O’Connor
  International Short Story Award. Barrett will read from som
 e of his work and converse with Colm Tóibín\, whose own hig
 hly acclaimed fiction includes The Master (2004)\, Brooklyn (
 2009)\, Nora Webster (2014) and\, most recently\, House of Nam
 es (2017). Award-winning author Sam Lipsyte\, Chair of The W
 riting Program\, will introduce.
END:VEVENT
END:VCALENDAR