BEGIN:VCALENDAR
VERSION:2.0
PRODID:-//ExpressionEngine Easy iCalendar plugin//NONSGML v1.1.1//EN
BEGIN:VEVENT
UID:event
LOCATION:Butler Library\, Rooms 522/523
DTSTAMP:20210221T33600Z
DTSTART;TZID=America/New_York:20180416T160000
DTEND;TZID=America/New_York:
SUMMARY:Judging Shaw? A roundtable and keynote
DESCRIPTION:Judging Shaw is the title of both an exhibition produced b
 y the Royal Irish Academy and the National University of Ire
 land at Galway and a new biography by the renowned journali
 st and literary scholar Fintan O’Toole.  To mark both boo
 k and exhibition\, Irish and US scholars will discuss the lif
 e\, work\, politics\, celebrity\, and legacy of George Bernard S
 haw.  Roundtable participants include: Catriona Crowe\, Rut
 h Hegarty\, Barry Houlihan\, Lucy McDiarmid\, Adrian Paterso
 n\, and Keri Walsh. Fintan O’Toole’s keynote lecture\, 
 GBS Versus Ireland: Bernard Shaw and Irish Nationalism\,” 
 will follow.
END:VEVENT
END:VCALENDAR