BEGIN:VCALENDAR
VERSION:2.0
PRODID:-//ExpressionEngine Easy iCalendar plugin//NONSGML v1.1.1//EN
BEGIN:VEVENT
UID:event
LOCATION:\, First Corinthian Baptist Church (1912 Adam Clayton Powell\,
  Jr. Blvd.)
DTSTAMP:20210221T33300Z
DTSTART;TZID=America/New_York:20180413T180000
DTEND;TZID=America/New_York:
SUMMARY:Perfect Praise in a Post-Soul Age
DESCRIPTION:This event will bring together musical performers and academ
 ics to talk about the role of gospel music throughout histor
 y and today. Furthermore\, this event will feature a performa
 nce by famed gospel singer Richard Smallwood. Bring your fr
 iends and family\, and join us for thought-provoking discussi
 on and beautiful music in one of the largest and most histor
 ic churches in Harlem. 
END:VEVENT
END:VCALENDAR