BEGIN:VCALENDAR
VERSION:2.0
PRODID:-//ExpressionEngine Easy iCalendar plugin//NONSGML v1.1.1//EN
BEGIN:VEVENT
UID:event
LOCATION:Jerome Greene Hall (Law School)\, Room 102A
DTSTAMP:20210221T33700Z
DTSTART;TZID=America/New_York:20180419T170000
DTEND;TZID=America/New_York:20180420T000000
SUMMARY:Frontier of Debt in the Caribbean and Afro-America
DESCRIPTION:Frontiers of Debt in the Caribbean and Afro-America brings 
 together scholars\, journalists\, activists\, and artists from 
 across these two regions in order to interrogate their conte
 mporary re-emergence as sites of new forms of capital extrac
 tion and opposition to debt regimes. The two-day event is co
 mprised of an art exhibit and a conference. The art exhibit\,
  entitled Puerto Rico Under Water: Five Artist Perspectives
  on Debt will be housed in the Gallery at the Columbia Univ
 ersity Center for the Study of Ethnicity and Race (420 Hamil
 ton Hall) and will open with a reception at 5pm on April 19
 . The conference itself will take place between 10am and 5:
 30pm on April 20 at the Columbia University Law School (Jer
 ome Green Building\, Room 102).
END:VEVENT
END:VCALENDAR