BEGIN:VCALENDAR
VERSION:2.0
PRODID:-//ExpressionEngine Easy iCalendar plugin//NONSGML v1.1.1//EN
BEGIN:VEVENT
UID:event
LOCATION:The Heyman Center\, Second Floor Common Room
DTSTAMP:20210221T33800Z
DTSTART;TZID=America/New_York:20180424T181500
DTEND;TZID=America/New_York:
SUMMARY:Contemporary Populism and Globalization
DESCRIPTION:the last decade has seen the emergence of a form of politics
  that has frequently been called ‘populism’. some of the
 se movements are of the left\, many are of the right.  many 
 of them are against globalization\, some are for it (as inind
 ia and turkey). professors milanovic\, patnaik\, and reddy 
 will both seek to clarify some of these confusingly inconsis
 tent and criss-crossing trends within contemporary populis
 m and to identify common underlying elements of politics and
  political economy that prompt this phenomena in different p
 arts of the globe.
END:VEVENT
END:VCALENDAR