BEGIN:VCALENDAR
VERSION:2.0
PRODID:-//ExpressionEngine Easy iCalendar plugin//NONSGML v1.1.1//EN
BEGIN:VEVENT
UID:event
LOCATION:Schermerhorn Hall\, Room 501
DTSTAMP:20210221T33800Z
DTSTART;TZID=America/New_York:20110919T193000
DTEND;TZID=America/New_York:
SUMMARY:The Greek Crisis: A Conversation
DESCRIPTION:The panel will engage in a discussion that examines the caus
 es of the Greek Economic Crisis and its effects on Greece an
 d the global economy.
END:VEVENT
END:VCALENDAR