BEGIN:VCALENDAR
VERSION:2.0
PRODID:-//ExpressionEngine Easy iCalendar plugin//NONSGML v1.1.1//EN
BEGIN:VEVENT
UID:event
LOCATION:The Heyman Center\, Second Floor Common Room
DTSTAMP:20210221T33300Z
DTSTART;TZID=America/New_York:20180604T173000
DTEND;TZID=America/New_York:
SUMMARY:Women Breaking Barriers: Global Women Heroes
DESCRIPTION:Art and Resistance Through Education (ARTE) presents Women
  Breaking Barriers: Global Women Heroes\, a community mural p
 roject\, honoring the voices of women of color leaders and b
 ringing attention to mass incarceration. \n\nThe project is i
 n collaboration with Columbia University's Justice-in-Educat
 ion Initiative and the Maxine Green School for Imaginative I
 nquiry. 
END:VEVENT
END:VCALENDAR