BEGIN:VCALENDAR
VERSION:2.0
PRODID:-//ExpressionEngine Easy iCalendar plugin//NONSGML v1.1.1//EN
BEGIN:VEVENT
UID:event
LOCATION:\, Presidential Room 1 (3rd Floor)\, Faculty House
DTSTAMP:20210221T33900Z
DTSTART;TZID=America/New_York:20110927T170000
DTEND;TZID=America/New_York:
SUMMARY:Blinken European Institute Presents: Bringing Back Political
  Economy
DESCRIPTION:Please join the European Institute for a roundtable discussi
 on that will begin a year-long series on the political econo
 my of Europe.
END:VEVENT
END:VCALENDAR