BEGIN:VCALENDAR
VERSION:2.0
PRODID:-//ExpressionEngine Easy iCalendar plugin//NONSGML v1.1.1//EN
BEGIN:VEVENT
UID:event
LOCATION:511 Dodge Hall
DTSTAMP:20210221T33500Z
DTSTART;TZID=America/New_York:20111010T183000
DTEND;TZID=America/New_York:
SUMMARY:Local Angel: Theological Political Fragments and Kashmir: Jo
 urney to Freedom
DESCRIPTION:These screenings are part of the series\, "Theory-Art-Action:
  On Binationalism and Other Specters\," co-sponsored by the S
 chool of the Arts and the Heyman Center for the Humanities.Â
  \n\nÂ \n\nÂ 
END:VEVENT
END:VCALENDAR