BEGIN:VCALENDAR
VERSION:2.0
PRODID:-//ExpressionEngine Easy iCalendar plugin//NONSGML v1.1.1//EN
BEGIN:VEVENT
UID:event
LOCATION:The Heyman Center\, Second Floor Common Room
DTSTAMP:20210221T32700Z
DTSTART;TZID=America/New_York:20180913T181500
DTEND;TZID=America/New_York:
SUMMARY:Celebrating Recent Work by Maggie Cao\, Dalia Judovitz\, and W
 illiam Sharpe
DESCRIPTION:New Books in the Society of Fellows\n\nCelebrating Recent Work
  by Maggie Cao\, Dalia Judovitz\, and William Sharpe
END:VEVENT
END:VCALENDAR