BEGIN:VCALENDAR
VERSION:2.0
PRODID:-//ExpressionEngine Easy iCalendar plugin//NONSGML v1.1.1//EN
BEGIN:VEVENT
UID:event
LOCATION:Miller Theatre
DTSTAMP:20210221T33300Z
DTSTART;TZID=America/New_York:20111011T190000
DTEND;TZID=America/New_York:
SUMMARY:Panel discussion on Aloni’s What Does a Jew Want?: On Bina
 tionalism and Other Specters
DESCRIPTION:This panel discussion is part of the series\, "Theory-Art-Act
 ion: On Binationalism and Other Specters\," co-sponsored by t
 he School of the Arts and the Heyman Center for the Humaniti
 es.
END:VEVENT
END:VCALENDAR