BEGIN:VCALENDAR
VERSION:2.0
PRODID:-//ExpressionEngine Easy iCalendar plugin//NONSGML v1.1.1//EN
BEGIN:VEVENT
UID:event
LOCATION:Miller Theatre
DTSTAMP:20210221T33800Z
DTSTART;TZID=America/New_York:20111018T190000
DTEND;TZID=America/New_York:
SUMMARY:Inaugural Performance of While Waiting presented by the Free
 dom Theatre\, Jenin
DESCRIPTION:This performance is part of the series\, "Theory-Art-Action: 
 On Binationalism and Other Specters\," co-sponsored by the Sc
 hool of the Arts and the Heyman Center for the Humanities.
END:VEVENT
END:VCALENDAR