BEGIN:VCALENDAR
VERSION:2.0
PRODID:-//ExpressionEngine Easy iCalendar plugin//NONSGML v1.1.1//EN
BEGIN:VEVENT
UID:event
LOCATION:Butler Library\, Room 523
DTSTAMP:20210221T32600Z
DTSTART;TZID=America/New_York:20111020T180000
DTEND;TZID=America/New_York:
SUMMARY:Panel conversation: American History Now\, edited by Eric Fon
 er and Lisa McGirr
DESCRIPTION:A panel will convene to discuss the recently-published book 
 American History Now. Panelists include Eric Foner\, Lisa McG
 irr\, Mae Ngai\, and Adam Rothman. Kenneth T. Jackson will mod
 erate.
END:VEVENT
END:VCALENDAR