BEGIN:VCALENDAR
VERSION:2.0
PRODID:-//ExpressionEngine Easy iCalendar plugin//NONSGML v1.1.1//EN
BEGIN:VEVENT
UID:event
LOCATION:Maison Francaise
DTSTAMP:20210221T33100Z
DTSTART;TZID=America/New_York:20180920T180000
DTEND;TZID=America/New_York:
SUMMARY:Open to Reason: Muslim Philosophers in Conversation with the
  Western Tradition
DESCRIPTION:What does it mean to be a Muslim philosopher\, or to philosop
 hize in Islam? In Open to Reason\, Souleymane Bachir Diagne 
 traces Muslims’ intellectual and spiritual history of exam
 ining and questioning beliefs and arguments to show how Isla
 mic philosophy has always engaged critically with texts and 
 ideas both inside and outside its tradition. Through a rich 
 reading of classical and modern Muslim philosophers\, Diagne 
 explains the long history of philosophy in the Islamic world
  and its relevance to crucial issues of our own time.
END:VEVENT
END:VCALENDAR