BEGIN:VCALENDAR
VERSION:2.0
PRODID:-//ExpressionEngine Easy iCalendar plugin//NONSGML v1.1.1//EN
BEGIN:VEVENT
UID:event
LOCATION:\, Italian Academy
DTSTAMP:20210221T32900Z
DTSTART;TZID=America/New_York:20181025T181500
DTEND;TZID=America/New_York:
SUMMARY:The Guests: Edward Said and Joseph Conrad
DESCRIPTION:Edward W. Said remained\, for over forty years\, concerned wit
 h Conrad. A fascinating conversation emerges between the two
  men’s work\, one concerned with aesthetics\, displacement a
 nd empire\, and sheds an interesting light on the present mom
 ent.
END:VEVENT
END:VCALENDAR