BEGIN:VCALENDAR
VERSION:2.0
PRODID:-//ExpressionEngine Easy iCalendar plugin//NONSGML v1.1.1//EN
BEGIN:VEVENT
UID:event
LOCATION:The Heyman Center\, Second Floor Common Room
DTSTAMP:20210221T32900Z
DTSTART;TZID=America/New_York:20111103T181500
DTEND;TZID=America/New_York:
SUMMARY:The Beautiful and the Damned: Writing about the New India
DESCRIPTION:Author Siddhartha Deb will deliver the inaugural talk of the
  Heyman Center's "Writing Lives Series." Gauri Viswanathan w
 ill serve as interlocutor and Adam Shatz will chair.
END:VEVENT
END:VCALENDAR