BEGIN:VCALENDAR
VERSION:2.0
PRODID:-//ExpressionEngine Easy iCalendar plugin//NONSGML v1.1.1//EN
BEGIN:VEVENT
UID:event
LOCATION:The Forum at Columbia University
DTSTAMP:20210221T33200Z
DTSTART;TZID=America/New_York:20180928T93000
DTEND;TZID=America/New_York:
SUMMARY:What We Can Do When There’s Nothing To Be Done: Strategies
  For Change
DESCRIPTION:How can we imagine justice\, practice solidarity and create c
 hange across barriers of social difference in today’s poli
 tical landscape? As the acceptance of inequality has become 
 the new norm to a degree we might have deemed unthinkable\, a
 nd as public dialogue has reached an impasse\, protest and re
 sistance continue. This conference brings together scholars\,
  artists\, and activists from around the globe whose work can
  inspire new ways of thinking\, seeing and listening\, and pro
 ductive strategies of intervention for our time.
END:VEVENT
END:VCALENDAR